BEGIN:VCALENDAR
VERSION:2.0
PRODID:-//Spring Guns &amp; Ammo - ECPv6.15.17.1//NONSGML v1.0//EN
CALSCALE:GREGORIAN
METHOD:PUBLISH
X-ORIGINAL-URL:https://springgunsandammo.com
X-WR-CALDESC:Events for Spring Guns &amp; Ammo
REFRESH-INTERVAL;VALUE=DURATION:PT1H
X-Robots-Tag:noindex
X-PUBLISHED-TTL:PT1H
BEGIN:VTIMEZONE
TZID:America/Chicago
BEGIN:DAYLIGHT
TZOFFSETFROM:-0600
TZOFFSETTO:-0500
TZNAME:CDT
DTSTART:20300310T080000
END:DAYLIGHT
BEGIN:STANDARD
TZOFFSETFROM:-0500
TZOFFSETTO:-0600
TZNAME:CST
DTSTART:20301103T070000
END:STANDARD
BEGIN:DAYLIGHT
TZOFFSETFROM:-0600
TZOFFSETTO:-0500
TZNAME:CDT
DTSTART:20310309T080000
END:DAYLIGHT
BEGIN:STANDARD
TZOFFSETFROM:-0500
TZOFFSETTO:-0600
TZNAME:CST
DTSTART:20311102T070000
END:STANDARD
BEGIN:DAYLIGHT
TZOFFSETFROM:-0600
TZOFFSETTO:-0500
TZNAME:CDT
DTSTART:20320314T080000
END:DAYLIGHT
BEGIN:STANDARD
TZOFFSETFROM:-0500
TZOFFSETTO:-0600
TZNAME:CST
DTSTART:20321107T070000
END:STANDARD
END:VTIMEZONE
BEGIN:VEVENT
DTSTART;TZID=America/Chicago:20310211T180000
DTEND;TZID=America/Chicago:20310211T200000
DTSTAMP:20260421T195051
CREATED:20250716T190742Z
LAST-MODIFIED:20250716T190742Z
UID:10002577-1928599200-1928606400@springgunsandammo.com
SUMMARY:Woodlands - Pistol Caliber Gun Club
DESCRIPTION:IDPA Style Match \nOur club offers a chance to compete in a safe\, fun\, and dynamic environment\, in a USPSA or IDPA style action shooting format. It doesn’t matter if you are an experienced shooter mastering their craft or a new shooter who wants to learn how to handle your firearm more efficiently. Both styles of shooting provide an opportunity to shoot in a challenging\, dynamic scenario which includes multiple targets\, movement\, drawing from a holster and rapid fire. \nMore Info Here
URL:https://springgunsandammo.com/event/woodlands-pistol-caliber-gun-club/2031-02-11/
LOCATION:The Woodlands Location\, 26115 I45 Frontage Rd.\, Spring\, TX\, 77380\, United States
CATEGORIES:Spring Pistol Caliber Club,The Woodlands Events
ORGANIZER;CN="Pistol Caliber Gun Club":MAILTO:glennmckinney@hotmail.com
GEO:30.1417778;-95.4469791
X-APPLE-STRUCTURED-LOCATION;VALUE=URI;X-ADDRESS=The Woodlands Location 26115 I45 Frontage Rd. Spring TX 77380 United States;X-APPLE-RADIUS=500;X-TITLE=26115 I45 Frontage Rd.:geo:-95.4469791,30.1417778
END:VEVENT
BEGIN:VEVENT
DTSTART;TZID=America/Chicago:20310218T180000
DTEND;TZID=America/Chicago:20310218T200000
DTSTAMP:20260421T195051
CREATED:20250716T190742Z
LAST-MODIFIED:20250716T190742Z
UID:10002596-1929204000-1929211200@springgunsandammo.com
SUMMARY:Woodlands - Pistol Caliber Gun Club
DESCRIPTION:IDPA Style Match \nOur club offers a chance to compete in a safe\, fun\, and dynamic environment\, in a USPSA or IDPA style action shooting format. It doesn’t matter if you are an experienced shooter mastering their craft or a new shooter who wants to learn how to handle your firearm more efficiently. Both styles of shooting provide an opportunity to shoot in a challenging\, dynamic scenario which includes multiple targets\, movement\, drawing from a holster and rapid fire. \nMore Info Here
URL:https://springgunsandammo.com/event/woodlands-pistol-caliber-gun-club/2031-02-18/
LOCATION:The Woodlands Location\, 26115 I45 Frontage Rd.\, Spring\, TX\, 77380\, United States
CATEGORIES:Spring Pistol Caliber Club,The Woodlands Events
ORGANIZER;CN="Pistol Caliber Gun Club":MAILTO:glennmckinney@hotmail.com
GEO:30.1417778;-95.4469791
X-APPLE-STRUCTURED-LOCATION;VALUE=URI;X-ADDRESS=The Woodlands Location 26115 I45 Frontage Rd. Spring TX 77380 United States;X-APPLE-RADIUS=500;X-TITLE=26115 I45 Frontage Rd.:geo:-95.4469791,30.1417778
END:VEVENT
BEGIN:VEVENT
DTSTART;TZID=America/Chicago:20310225T180000
DTEND;TZID=America/Chicago:20310225T200000
DTSTAMP:20260421T195051
CREATED:20250716T190742Z
LAST-MODIFIED:20250716T190742Z
UID:10002598-1929808800-1929816000@springgunsandammo.com
SUMMARY:Woodlands - Pistol Caliber Gun Club
DESCRIPTION:IDPA Style Match \nOur club offers a chance to compete in a safe\, fun\, and dynamic environment\, in a USPSA or IDPA style action shooting format. It doesn’t matter if you are an experienced shooter mastering their craft or a new shooter who wants to learn how to handle your firearm more efficiently. Both styles of shooting provide an opportunity to shoot in a challenging\, dynamic scenario which includes multiple targets\, movement\, drawing from a holster and rapid fire. \nMore Info Here
URL:https://springgunsandammo.com/event/woodlands-pistol-caliber-gun-club/2031-02-25/
LOCATION:The Woodlands Location\, 26115 I45 Frontage Rd.\, Spring\, TX\, 77380\, United States
CATEGORIES:Spring Pistol Caliber Club,The Woodlands Events
ORGANIZER;CN="Pistol Caliber Gun Club":MAILTO:glennmckinney@hotmail.com
GEO:30.1417778;-95.4469791
X-APPLE-STRUCTURED-LOCATION;VALUE=URI;X-ADDRESS=The Woodlands Location 26115 I45 Frontage Rd. Spring TX 77380 United States;X-APPLE-RADIUS=500;X-TITLE=26115 I45 Frontage Rd.:geo:-95.4469791,30.1417778
END:VEVENT
BEGIN:VEVENT
DTSTART;TZID=America/Chicago:20310304T180000
DTEND;TZID=America/Chicago:20310304T200000
DTSTAMP:20260421T195051
CREATED:20250716T190742Z
LAST-MODIFIED:20250716T190742Z
UID:10002605-1930413600-1930420800@springgunsandammo.com
SUMMARY:Woodlands - Pistol Caliber Gun Club
DESCRIPTION:IDPA Style Match \nOur club offers a chance to compete in a safe\, fun\, and dynamic environment\, in a USPSA or IDPA style action shooting format. It doesn’t matter if you are an experienced shooter mastering their craft or a new shooter who wants to learn how to handle your firearm more efficiently. Both styles of shooting provide an opportunity to shoot in a challenging\, dynamic scenario which includes multiple targets\, movement\, drawing from a holster and rapid fire. \nMore Info Here
URL:https://springgunsandammo.com/event/woodlands-pistol-caliber-gun-club/2031-03-04/
LOCATION:The Woodlands Location\, 26115 I45 Frontage Rd.\, Spring\, TX\, 77380\, United States
CATEGORIES:Spring Pistol Caliber Club,The Woodlands Events
ORGANIZER;CN="Pistol Caliber Gun Club":MAILTO:glennmckinney@hotmail.com
GEO:30.1417778;-95.4469791
X-APPLE-STRUCTURED-LOCATION;VALUE=URI;X-ADDRESS=The Woodlands Location 26115 I45 Frontage Rd. Spring TX 77380 United States;X-APPLE-RADIUS=500;X-TITLE=26115 I45 Frontage Rd.:geo:-95.4469791,30.1417778
END:VEVENT
BEGIN:VEVENT
DTSTART;TZID=America/Chicago:20310311T180000
DTEND;TZID=America/Chicago:20310311T200000
DTSTAMP:20260421T195051
CREATED:20250716T190742Z
LAST-MODIFIED:20250716T190742Z
UID:10002640-1931018400-1931025600@springgunsandammo.com
SUMMARY:Woodlands - Pistol Caliber Gun Club
DESCRIPTION:IDPA Style Match \nOur club offers a chance to compete in a safe\, fun\, and dynamic environment\, in a USPSA or IDPA style action shooting format. It doesn’t matter if you are an experienced shooter mastering their craft or a new shooter who wants to learn how to handle your firearm more efficiently. Both styles of shooting provide an opportunity to shoot in a challenging\, dynamic scenario which includes multiple targets\, movement\, drawing from a holster and rapid fire. \nMore Info Here
URL:https://springgunsandammo.com/event/woodlands-pistol-caliber-gun-club/2031-03-11/
LOCATION:The Woodlands Location\, 26115 I45 Frontage Rd.\, Spring\, TX\, 77380\, United States
CATEGORIES:Spring Pistol Caliber Club,The Woodlands Events
ORGANIZER;CN="Pistol Caliber Gun Club":MAILTO:glennmckinney@hotmail.com
GEO:30.1417778;-95.4469791
X-APPLE-STRUCTURED-LOCATION;VALUE=URI;X-ADDRESS=The Woodlands Location 26115 I45 Frontage Rd. Spring TX 77380 United States;X-APPLE-RADIUS=500;X-TITLE=26115 I45 Frontage Rd.:geo:-95.4469791,30.1417778
END:VEVENT
BEGIN:VEVENT
DTSTART;TZID=America/Chicago:20310318T180000
DTEND;TZID=America/Chicago:20310318T200000
DTSTAMP:20260421T195051
CREATED:20250716T190742Z
LAST-MODIFIED:20250716T190742Z
UID:10002642-1931623200-1931630400@springgunsandammo.com
SUMMARY:Woodlands - Pistol Caliber Gun Club
DESCRIPTION:IDPA Style Match \nOur club offers a chance to compete in a safe\, fun\, and dynamic environment\, in a USPSA or IDPA style action shooting format. It doesn’t matter if you are an experienced shooter mastering their craft or a new shooter who wants to learn how to handle your firearm more efficiently. Both styles of shooting provide an opportunity to shoot in a challenging\, dynamic scenario which includes multiple targets\, movement\, drawing from a holster and rapid fire. \nMore Info Here
URL:https://springgunsandammo.com/event/woodlands-pistol-caliber-gun-club/2031-03-18/
LOCATION:The Woodlands Location\, 26115 I45 Frontage Rd.\, Spring\, TX\, 77380\, United States
CATEGORIES:Spring Pistol Caliber Club,The Woodlands Events
ORGANIZER;CN="Pistol Caliber Gun Club":MAILTO:glennmckinney@hotmail.com
GEO:30.1417778;-95.4469791
X-APPLE-STRUCTURED-LOCATION;VALUE=URI;X-ADDRESS=The Woodlands Location 26115 I45 Frontage Rd. Spring TX 77380 United States;X-APPLE-RADIUS=500;X-TITLE=26115 I45 Frontage Rd.:geo:-95.4469791,30.1417778
END:VEVENT
BEGIN:VEVENT
DTSTART;TZID=America/Chicago:20310325T180000
DTEND;TZID=America/Chicago:20310325T200000
DTSTAMP:20260421T195051
CREATED:20250716T190742Z
LAST-MODIFIED:20250716T190742Z
UID:10002643-1932228000-1932235200@springgunsandammo.com
SUMMARY:Woodlands - Pistol Caliber Gun Club
DESCRIPTION:IDPA Style Match \nOur club offers a chance to compete in a safe\, fun\, and dynamic environment\, in a USPSA or IDPA style action shooting format. It doesn’t matter if you are an experienced shooter mastering their craft or a new shooter who wants to learn how to handle your firearm more efficiently. Both styles of shooting provide an opportunity to shoot in a challenging\, dynamic scenario which includes multiple targets\, movement\, drawing from a holster and rapid fire. \nMore Info Here
URL:https://springgunsandammo.com/event/woodlands-pistol-caliber-gun-club/2031-03-25/
LOCATION:The Woodlands Location\, 26115 I45 Frontage Rd.\, Spring\, TX\, 77380\, United States
CATEGORIES:Spring Pistol Caliber Club,The Woodlands Events
ORGANIZER;CN="Pistol Caliber Gun Club":MAILTO:glennmckinney@hotmail.com
GEO:30.1417778;-95.4469791
X-APPLE-STRUCTURED-LOCATION;VALUE=URI;X-ADDRESS=The Woodlands Location 26115 I45 Frontage Rd. Spring TX 77380 United States;X-APPLE-RADIUS=500;X-TITLE=26115 I45 Frontage Rd.:geo:-95.4469791,30.1417778
END:VEVENT
BEGIN:VEVENT
DTSTART;TZID=America/Chicago:20310401T180000
DTEND;TZID=America/Chicago:20310401T200000
DTSTAMP:20260421T195051
CREATED:20250716T190742Z
LAST-MODIFIED:20250716T190742Z
UID:10002646-1932832800-1932840000@springgunsandammo.com
SUMMARY:Woodlands - Pistol Caliber Gun Club
DESCRIPTION:IDPA Style Match \nOur club offers a chance to compete in a safe\, fun\, and dynamic environment\, in a USPSA or IDPA style action shooting format. It doesn’t matter if you are an experienced shooter mastering their craft or a new shooter who wants to learn how to handle your firearm more efficiently. Both styles of shooting provide an opportunity to shoot in a challenging\, dynamic scenario which includes multiple targets\, movement\, drawing from a holster and rapid fire. \nMore Info Here
URL:https://springgunsandammo.com/event/woodlands-pistol-caliber-gun-club/2031-04-01/
LOCATION:The Woodlands Location\, 26115 I45 Frontage Rd.\, Spring\, TX\, 77380\, United States
CATEGORIES:Spring Pistol Caliber Club,The Woodlands Events
ORGANIZER;CN="Pistol Caliber Gun Club":MAILTO:glennmckinney@hotmail.com
GEO:30.1417778;-95.4469791
X-APPLE-STRUCTURED-LOCATION;VALUE=URI;X-ADDRESS=The Woodlands Location 26115 I45 Frontage Rd. Spring TX 77380 United States;X-APPLE-RADIUS=500;X-TITLE=26115 I45 Frontage Rd.:geo:-95.4469791,30.1417778
END:VEVENT
BEGIN:VEVENT
DTSTART;TZID=America/Chicago:20310408T180000
DTEND;TZID=America/Chicago:20310408T200000
DTSTAMP:20260421T195051
CREATED:20250716T190742Z
LAST-MODIFIED:20250716T190742Z
UID:10002648-1933437600-1933444800@springgunsandammo.com
SUMMARY:Woodlands - Pistol Caliber Gun Club
DESCRIPTION:IDPA Style Match \nOur club offers a chance to compete in a safe\, fun\, and dynamic environment\, in a USPSA or IDPA style action shooting format. It doesn’t matter if you are an experienced shooter mastering their craft or a new shooter who wants to learn how to handle your firearm more efficiently. Both styles of shooting provide an opportunity to shoot in a challenging\, dynamic scenario which includes multiple targets\, movement\, drawing from a holster and rapid fire. \nMore Info Here
URL:https://springgunsandammo.com/event/woodlands-pistol-caliber-gun-club/2031-04-08/
LOCATION:The Woodlands Location\, 26115 I45 Frontage Rd.\, Spring\, TX\, 77380\, United States
CATEGORIES:Spring Pistol Caliber Club,The Woodlands Events
ORGANIZER;CN="Pistol Caliber Gun Club":MAILTO:glennmckinney@hotmail.com
GEO:30.1417778;-95.4469791
X-APPLE-STRUCTURED-LOCATION;VALUE=URI;X-ADDRESS=The Woodlands Location 26115 I45 Frontage Rd. Spring TX 77380 United States;X-APPLE-RADIUS=500;X-TITLE=26115 I45 Frontage Rd.:geo:-95.4469791,30.1417778
END:VEVENT
BEGIN:VEVENT
DTSTART;TZID=America/Chicago:20310415T180000
DTEND;TZID=America/Chicago:20310415T200000
DTSTAMP:20260421T195051
CREATED:20250716T190742Z
LAST-MODIFIED:20250716T190742Z
UID:10002653-1934042400-1934049600@springgunsandammo.com
SUMMARY:Woodlands - Pistol Caliber Gun Club
DESCRIPTION:IDPA Style Match \nOur club offers a chance to compete in a safe\, fun\, and dynamic environment\, in a USPSA or IDPA style action shooting format. It doesn’t matter if you are an experienced shooter mastering their craft or a new shooter who wants to learn how to handle your firearm more efficiently. Both styles of shooting provide an opportunity to shoot in a challenging\, dynamic scenario which includes multiple targets\, movement\, drawing from a holster and rapid fire. \nMore Info Here
URL:https://springgunsandammo.com/event/woodlands-pistol-caliber-gun-club/2031-04-15/
LOCATION:The Woodlands Location\, 26115 I45 Frontage Rd.\, Spring\, TX\, 77380\, United States
CATEGORIES:Spring Pistol Caliber Club,The Woodlands Events
ORGANIZER;CN="Pistol Caliber Gun Club":MAILTO:glennmckinney@hotmail.com
GEO:30.1417778;-95.4469791
X-APPLE-STRUCTURED-LOCATION;VALUE=URI;X-ADDRESS=The Woodlands Location 26115 I45 Frontage Rd. Spring TX 77380 United States;X-APPLE-RADIUS=500;X-TITLE=26115 I45 Frontage Rd.:geo:-95.4469791,30.1417778
END:VEVENT
END:VCALENDAR